BEGIN:VCALENDAR
VERSION:2.0
PRODID:-//The Cottonwood Equine Center - ECPv6.15.20//NONSGML v1.0//EN
CALSCALE:GREGORIAN
METHOD:PUBLISH
X-WR-CALNAME:The Cottonwood Equine Center
X-ORIGINAL-URL:https://cottonwoodequinecenter.com
X-WR-CALDESC:Events for The Cottonwood Equine Center
REFRESH-INTERVAL;VALUE=DURATION:PT1H
X-Robots-Tag:noindex
X-PUBLISHED-TTL:PT1H
BEGIN:VTIMEZONE
TZID:UTC
BEGIN:STANDARD
TZOFFSETFROM:+0000
TZOFFSETTO:+0000
TZNAME:UTC
DTSTART:20220101T000000
END:STANDARD
END:VTIMEZONE
BEGIN:VEVENT
DTSTART;VALUE=DATE:20240928
DTEND;VALUE=DATE:20240930
DTSTAMP:20260423T190336
CREATED:20240902T182558Z
LAST-MODIFIED:20240902T182558Z
UID:523-1727481600-1727654399@cottonwoodequinecenter.com
SUMMARY:The Monster Mash
DESCRIPTION:Miller Ranch Productions. \n\n ADDED\n\n\nTROPHY BUCKLES\n\n\nWpra Approval\n\n\nEnter online only with the option of mailing in a check to save cc fee\n\n\nhttps://saddlebook.com/events/8369
URL:https://cottonwoodequinecenter.com/event/the-monster-mash/
LOCATION:Cottonwood Equine Center\, 11 CC Lane\, Joliet\, MT\, 59041\, United States
CATEGORIES:Barrel Race
END:VEVENT
BEGIN:VEVENT
DTSTART;VALUE=DATE:20240907
DTEND;VALUE=DATE:20240909
DTSTAMP:20260423T190336
CREATED:20240902T182922Z
LAST-MODIFIED:20240902T182922Z
UID:526-1725667200-1725839999@cottonwoodequinecenter.com
SUMMARY:Dallas Mittlestadt Memorial - Team Roping
DESCRIPTION:Limberhand Productions. \nMike Limberhand: 406-671-9887
URL:https://cottonwoodequinecenter.com/event/dallas-mittlestadt-memorial-team-roping/
LOCATION:Cottonwood Equine Center\, 11 CC Lane\, Joliet\, MT\, 59041\, United States
END:VEVENT
BEGIN:VEVENT
DTSTART;VALUE=DATE:20240828
DTEND;VALUE=DATE:20240829
DTSTAMP:20260423T190336
CREATED:20240410T204741Z
LAST-MODIFIED:20240410T204741Z
UID:463-1724803200-1724889599@cottonwoodequinecenter.com
SUMMARY:BBRS 2024 Summer Series
DESCRIPTION:
URL:https://cottonwoodequinecenter.com/event/bbrs-2024-summer-series-5/
LOCATION:MT
END:VEVENT
BEGIN:VEVENT
DTSTART;VALUE=DATE:20240814
DTEND;VALUE=DATE:20240815
DTSTAMP:20260423T190336
CREATED:20240410T204706Z
LAST-MODIFIED:20240410T204714Z
UID:461-1723593600-1723679999@cottonwoodequinecenter.com
SUMMARY:BBRS 2024 Summer Series
DESCRIPTION:
URL:https://cottonwoodequinecenter.com/event/bbrs-2024-summer-series-4/
LOCATION:MT
END:VEVENT
BEGIN:VEVENT
DTSTART;VALUE=DATE:20240802
DTEND;VALUE=DATE:20240805
DTSTAMP:20260423T190336
CREATED:20240411T205314Z
LAST-MODIFIED:20240411T205314Z
UID:495-1722556800-1722815999@cottonwoodequinecenter.com
SUMMARY:Ross and Casey Wagner Barrel Race
DESCRIPTION:More Information & Flyer Coming Soon
URL:https://cottonwoodequinecenter.com/event/ross-and-casey-wagner-barrel-race/
LOCATION:MT
CATEGORIES:Barrel Race
END:VEVENT
BEGIN:VEVENT
DTSTART;VALUE=DATE:20240724
DTEND;VALUE=DATE:20240725
DTSTAMP:20260423T190336
CREATED:20240410T204643Z
LAST-MODIFIED:20240410T204643Z
UID:459-1721779200-1721865599@cottonwoodequinecenter.com
SUMMARY:BBRS 2024 Summer Series
DESCRIPTION:
URL:https://cottonwoodequinecenter.com/event/bbrs-2024-summer-series-3/
LOCATION:MT
END:VEVENT
BEGIN:VEVENT
DTSTART;VALUE=DATE:20240711
DTEND;VALUE=DATE:20240715
DTSTAMP:20260423T190336
CREATED:20240411T205217Z
LAST-MODIFIED:20240411T205217Z
UID:493-1720656000-1721001599@cottonwoodequinecenter.com
SUMMARY:Glacier Chaser Barrel Race
DESCRIPTION:Flyer Coming Soon
URL:https://cottonwoodequinecenter.com/event/glacier-chaser-barrel-race/
LOCATION:MT
CATEGORIES:Barrel Race
END:VEVENT
BEGIN:VEVENT
DTSTART;VALUE=DATE:20240621
DTEND;VALUE=DATE:20240624
DTSTAMP:20260423T190336
CREATED:20240417T180742Z
LAST-MODIFIED:20240417T180742Z
UID:521-1718928000-1719187199@cottonwoodequinecenter.com
SUMMARY:Wedding At Cottonwood
DESCRIPTION:Congratulations!!
URL:https://cottonwoodequinecenter.com/event/wedding-at-cottonwood/
LOCATION:Cottonwood Equine Center\, 11 CC Lane\, Joliet\, MT\, 59041\, United States
CATEGORIES:Wedding
END:VEVENT
BEGIN:VEVENT
DTSTART;VALUE=DATE:20240619
DTEND;VALUE=DATE:20240620
DTSTAMP:20260423T190336
CREATED:20240410T204614Z
LAST-MODIFIED:20240410T204614Z
UID:457-1718755200-1718841599@cottonwoodequinecenter.com
SUMMARY:BBRS 2024 Summer Series
DESCRIPTION:
URL:https://cottonwoodequinecenter.com/event/bbrs-2024-summer-series-2/
LOCATION:MT
END:VEVENT
BEGIN:VEVENT
DTSTART;VALUE=DATE:20240606
DTEND;VALUE=DATE:20240610
DTSTAMP:20260423T190336
CREATED:20240411T205128Z
LAST-MODIFIED:20240411T205128Z
UID:491-1717632000-1717977599@cottonwoodequinecenter.com
SUMMARY:MQHA Horse Show
DESCRIPTION:Flyer Coming Soon
URL:https://cottonwoodequinecenter.com/event/mqha-horse-show/
LOCATION:MT
END:VEVENT
BEGIN:VEVENT
DTSTART;VALUE=DATE:20240531
DTEND;VALUE=DATE:20240603
DTSTAMP:20260423T190336
CREATED:20240411T205051Z
LAST-MODIFIED:20240411T205051Z
UID:489-1717113600-1717372799@cottonwoodequinecenter.com
SUMMARY:The Classic Barrel Race
DESCRIPTION:Flyer Coming Soon
URL:https://cottonwoodequinecenter.com/event/the-classic-barrel-race/
LOCATION:MT
END:VEVENT
BEGIN:VEVENT
DTSTART;VALUE=DATE:20240517
DTEND;VALUE=DATE:20240520
DTSTAMP:20260423T190336
CREATED:20240417T180649Z
LAST-MODIFIED:20240417T180649Z
UID:516-1715904000-1716163199@cottonwoodequinecenter.com
SUMMARY:Back-Up For NSI Team Roping
DESCRIPTION:
URL:https://cottonwoodequinecenter.com/event/back-up-for-nsi-team-roping/
LOCATION:Cottonwood Equine Center\, 11 CC Lane\, Joliet\, MT\, 59041\, United States
CATEGORIES:Team Roping
END:VEVENT
BEGIN:VEVENT
DTSTART;VALUE=DATE:20240515
DTEND;VALUE=DATE:20240516
DTSTAMP:20260423T190336
CREATED:20240410T204547Z
LAST-MODIFIED:20240410T204547Z
UID:454-1715731200-1715817599@cottonwoodequinecenter.com
SUMMARY:BBRS 2024 Summer Series
DESCRIPTION:
URL:https://cottonwoodequinecenter.com/event/bbrs-2024-summer-series/
LOCATION:MT
END:VEVENT
BEGIN:VEVENT
DTSTART;VALUE=DATE:20240503
DTEND;VALUE=DATE:20240506
DTSTAMP:20260423T190336
CREATED:20240410T204331Z
LAST-MODIFIED:20240410T204331Z
UID:451-1714694400-1714953599@cottonwoodequinecenter.com
SUMMARY:Cloverleaf Classic - Miller Ranch Productions
DESCRIPTION:
URL:https://cottonwoodequinecenter.com/event/cloverleaf-classic-miller-ranch-productions/
LOCATION:MT
CATEGORIES:Barrel Race
END:VEVENT
BEGIN:VEVENT
DTSTART;VALUE=DATE:20240419
DTEND;VALUE=DATE:20240422
DTSTAMP:20260423T190336
CREATED:20240219T230355Z
LAST-MODIFIED:20240219T230355Z
UID:213-1713484800-1713743999@cottonwoodequinecenter.com
SUMMARY:Racing Into Spring
DESCRIPTION:
URL:https://cottonwoodequinecenter.com/event/racing-into-spring/
LOCATION:Cottonwood Equine Center\, 11 CC Lane\, Joliet\, MT\, 59041\, United States
CATEGORIES:Barrel Race
END:VEVENT
BEGIN:VEVENT
DTSTART;VALUE=DATE:20231217
DTEND;VALUE=DATE:20231218
DTSTAMP:20260423T190336
CREATED:20230830T184656Z
LAST-MODIFIED:20230830T184656Z
UID:197-1702771200-1702857599@cottonwoodequinecenter.com
SUMMARY:Real Deal Horses - 3 Man Doctoring
DESCRIPTION:
URL:https://cottonwoodequinecenter.com/event/real-deal-horses-3-man-doctoring-4/
LOCATION:MT
END:VEVENT
BEGIN:VEVENT
DTSTART;VALUE=DATE:20231216
DTEND;VALUE=DATE:20231217
DTSTAMP:20260423T190336
CREATED:20230830T184623Z
LAST-MODIFIED:20230830T184623Z
UID:195-1702684800-1702771199@cottonwoodequinecenter.com
SUMMARY:Real Deal Horses - Ranch Horse Comp
DESCRIPTION:
URL:https://cottonwoodequinecenter.com/event/real-deal-horses-ranch-horse-comp-4/
LOCATION:MT
END:VEVENT
BEGIN:VEVENT
DTSTART;VALUE=DATE:20231202
DTEND;VALUE=DATE:20231203
DTSTAMP:20260423T190336
CREATED:20230830T184455Z
LAST-MODIFIED:20230830T184455Z
UID:189-1701475200-1701561599@cottonwoodequinecenter.com
SUMMARY:Real Deal Horses - Trail Course Comp
DESCRIPTION:
URL:https://cottonwoodequinecenter.com/event/real-deal-horses-trail-course-comp/
LOCATION:MT
END:VEVENT
BEGIN:VEVENT
DTSTART;VALUE=DATE:20231125
DTEND;VALUE=DATE:20231126
DTSTAMP:20260423T190336
CREATED:20230830T184424Z
LAST-MODIFIED:20230830T184424Z
UID:187-1700870400-1700956799@cottonwoodequinecenter.com
SUMMARY:Real Deal Horses - Ranch Sorting
DESCRIPTION:
URL:https://cottonwoodequinecenter.com/event/real-deal-horses-ranch-sorting-3/
LOCATION:MT
END:VEVENT
BEGIN:VEVENT
DTSTART;VALUE=DATE:20231112
DTEND;VALUE=DATE:20231113
DTSTAMP:20260423T190336
CREATED:20230830T184353Z
LAST-MODIFIED:20230830T184353Z
UID:185-1699747200-1699833599@cottonwoodequinecenter.com
SUMMARY:Real Deal Horses - 3 Man Doctoring
DESCRIPTION:
URL:https://cottonwoodequinecenter.com/event/real-deal-horses-3-man-doctoring-3/
LOCATION:MT
END:VEVENT
BEGIN:VEVENT
DTSTART;VALUE=DATE:20231111
DTEND;VALUE=DATE:20231112
DTSTAMP:20260423T190336
CREATED:20230830T184322Z
LAST-MODIFIED:20230830T184322Z
UID:183-1699660800-1699747199@cottonwoodequinecenter.com
SUMMARY:Real Deal Horses - Ranch Horse Comp
DESCRIPTION:
URL:https://cottonwoodequinecenter.com/event/real-deal-horses-ranch-horse-comp-3/
LOCATION:MT
END:VEVENT
BEGIN:VEVENT
DTSTART;VALUE=DATE:20231022
DTEND;VALUE=DATE:20231023
DTSTAMP:20260423T190336
CREATED:20230830T184247Z
LAST-MODIFIED:20230830T184247Z
UID:181-1697932800-1698019199@cottonwoodequinecenter.com
SUMMARY:Real Deal Horses - Team Penning
DESCRIPTION:
URL:https://cottonwoodequinecenter.com/event/real-deal-horses-team-penning/
LOCATION:MT
END:VEVENT
BEGIN:VEVENT
DTSTART;VALUE=DATE:20231022
DTEND;VALUE=DATE:20231023
DTSTAMP:20260423T190336
CREATED:20230830T184210Z
LAST-MODIFIED:20230830T184210Z
UID:179-1697932800-1698019199@cottonwoodequinecenter.com
SUMMARY:Real Deal Horses - Ranch Sorting
DESCRIPTION:
URL:https://cottonwoodequinecenter.com/event/real-deal-horses-ranch-sorting-2/
LOCATION:MT
END:VEVENT
BEGIN:VEVENT
DTSTART;VALUE=DATE:20231021
DTEND;VALUE=DATE:20231022
DTSTAMP:20260423T190336
CREATED:20230830T184141Z
LAST-MODIFIED:20230830T184141Z
UID:177-1697846400-1697932799@cottonwoodequinecenter.com
SUMMARY:Real Deal Horses - 3 Man Doctoring
DESCRIPTION:
URL:https://cottonwoodequinecenter.com/event/real-deal-horses-3-man-doctoring-2/
LOCATION:MT
END:VEVENT
BEGIN:VEVENT
DTSTART;VALUE=DATE:20231014
DTEND;VALUE=DATE:20231015
DTSTAMP:20260423T190336
CREATED:20230830T184110Z
LAST-MODIFIED:20230830T184110Z
UID:175-1697241600-1697327999@cottonwoodequinecenter.com
SUMMARY:Real Deal Horses - Ranch Horse Comp
DESCRIPTION:
URL:https://cottonwoodequinecenter.com/event/real-deal-horses-ranch-horse-comp-2/
LOCATION:MT
END:VEVENT
BEGIN:VEVENT
DTSTART;VALUE=DATE:20230917
DTEND;VALUE=DATE:20230918
DTSTAMP:20260423T190336
CREATED:20230830T184035Z
LAST-MODIFIED:20230830T185222Z
UID:173-1694908800-1694995199@cottonwoodequinecenter.com
SUMMARY:Real Deal Horses - 2nd Annual Poker Ride
DESCRIPTION:         
URL:https://cottonwoodequinecenter.com/event/real-deal-horses-2nd-annual-poker-ride/
LOCATION:MT
END:VEVENT
BEGIN:VEVENT
DTSTART;VALUE=DATE:20230916
DTEND;VALUE=DATE:20230917
DTSTAMP:20260423T190336
CREATED:20230830T184004Z
LAST-MODIFIED:20230830T185136Z
UID:171-1694822400-1694908799@cottonwoodequinecenter.com
SUMMARY:Real Deal Horses - 2nd Annual Trail Course Comp
DESCRIPTION:
URL:https://cottonwoodequinecenter.com/event/real-deal-horses-2nd-annual-trail-course-comp/
LOCATION:MT
END:VEVENT
BEGIN:VEVENT
DTSTART;VALUE=DATE:20230910
DTEND;VALUE=DATE:20230911
DTSTAMP:20260423T190336
CREATED:20230830T183917Z
LAST-MODIFIED:20230830T183917Z
UID:169-1694304000-1694390399@cottonwoodequinecenter.com
SUMMARY:Real Deal Horses - 3 Man Doctoring
DESCRIPTION:
URL:https://cottonwoodequinecenter.com/event/real-deal-horses-3-man-doctoring/
LOCATION:MT
END:VEVENT
BEGIN:VEVENT
DTSTART;VALUE=DATE:20230909
DTEND;VALUE=DATE:20230911
DTSTAMP:20260423T190336
CREATED:20230830T184848Z
LAST-MODIFIED:20230830T184848Z
UID:199-1694217600-1694390399@cottonwoodequinecenter.com
SUMMARY:Limberhand Productions - Dallas Mittlestadt Memorial Team Roping
DESCRIPTION:
URL:https://cottonwoodequinecenter.com/event/limberhand-productions-dallas-mittlestadt-memorial-team-roping/
LOCATION:MT
END:VEVENT
BEGIN:VEVENT
DTSTART;VALUE=DATE:20230909
DTEND;VALUE=DATE:20230910
DTSTAMP:20260423T190336
CREATED:20230830T183831Z
LAST-MODIFIED:20230830T183831Z
UID:167-1694217600-1694303999@cottonwoodequinecenter.com
SUMMARY:Real Deal Horses - Ranch Horse Comp
DESCRIPTION:
URL:https://cottonwoodequinecenter.com/event/real-deal-horses-ranch-horse-comp/
LOCATION:MT
END:VEVENT
END:VCALENDAR